BEGIN:VCALENDAR
VERSION:2.0
PRODID:-//COFORET - ECPv6.15.20//NONSGML v1.0//EN
CALSCALE:GREGORIAN
METHOD:PUBLISH
X-ORIGINAL-URL:https://www.coforet.com
X-WR-CALDESC:Évènements pour COFORET
REFRESH-INTERVAL;VALUE=DURATION:PT1H
X-Robots-Tag:noindex
X-PUBLISHED-TTL:PT1H
BEGIN:VTIMEZONE
TZID:Europe/Helsinki
BEGIN:DAYLIGHT
TZOFFSETFROM:+0200
TZOFFSETTO:+0300
TZNAME:EEST
DTSTART:20200329T010000
END:DAYLIGHT
BEGIN:STANDARD
TZOFFSETFROM:+0300
TZOFFSETTO:+0200
TZNAME:EET
DTSTART:20201025T010000
END:STANDARD
BEGIN:DAYLIGHT
TZOFFSETFROM:+0200
TZOFFSETTO:+0300
TZNAME:EEST
DTSTART:20210328T010000
END:DAYLIGHT
BEGIN:STANDARD
TZOFFSETFROM:+0300
TZOFFSETTO:+0200
TZNAME:EET
DTSTART:20211031T010000
END:STANDARD
BEGIN:DAYLIGHT
TZOFFSETFROM:+0200
TZOFFSETTO:+0300
TZNAME:EEST
DTSTART:20220327T010000
END:DAYLIGHT
BEGIN:STANDARD
TZOFFSETFROM:+0300
TZOFFSETTO:+0200
TZNAME:EET
DTSTART:20221030T010000
END:STANDARD
END:VTIMEZONE
BEGIN:VEVENT
DTSTART;VALUE=DATE:20210701
DTEND;VALUE=DATE:20210901
DTSTAMP:20260422T042046
CREATED:20210723T160758Z
LAST-MODIFIED:20210723T160958Z
UID:11910-1625097600-1630454399@www.coforet.com
SUMMARY:Vis ma vie de bûcheron 2021
DESCRIPTION:C’est reparti pour un nouvel été en forêt !\nGrâce à FIBOIS\, l’interprofession de la filière forêt-bois\, venez découvrir sur le terrain comment sont gérées les forêts près de chez vous\, venez dialoguer avec les bûcherons et forestiers qui gèrent ces espaces et entrez dans le monde des forestiers. \nQue vous habitiez dans la Loire\, au fin fond du Vercors ou encore dans l’Ain\, un événement vous attend près de chez vous. \nPour en savoir plus\, découvrez notre article complet en cliquant ici. Vous pouvez également tous les événements organisés cet été sur le site officiel.
URL:https://www.coforet.com/event/vis-la-vie-de-bucheron-2021/
END:VEVENT
END:VCALENDAR