BEGIN:VCALENDAR
VERSION:2.0
PRODID:-//COFORET - ECPv6.15.20//NONSGML v1.0//EN
CALSCALE:GREGORIAN
METHOD:PUBLISH
X-ORIGINAL-URL:https://www.coforet.com
X-WR-CALDESC:Évènements pour COFORET
REFRESH-INTERVAL;VALUE=DURATION:PT1H
X-Robots-Tag:noindex
X-PUBLISHED-TTL:PT1H
BEGIN:VTIMEZONE
TZID:Europe/Helsinki
BEGIN:DAYLIGHT
TZOFFSETFROM:+0200
TZOFFSETTO:+0300
TZNAME:EEST
DTSTART:20200329T010000
END:DAYLIGHT
BEGIN:STANDARD
TZOFFSETFROM:+0300
TZOFFSETTO:+0200
TZNAME:EET
DTSTART:20201025T010000
END:STANDARD
BEGIN:DAYLIGHT
TZOFFSETFROM:+0200
TZOFFSETTO:+0300
TZNAME:EEST
DTSTART:20210328T010000
END:DAYLIGHT
BEGIN:STANDARD
TZOFFSETFROM:+0300
TZOFFSETTO:+0200
TZNAME:EET
DTSTART:20211031T010000
END:STANDARD
BEGIN:DAYLIGHT
TZOFFSETFROM:+0200
TZOFFSETTO:+0300
TZNAME:EEST
DTSTART:20220327T010000
END:DAYLIGHT
BEGIN:STANDARD
TZOFFSETFROM:+0300
TZOFFSETTO:+0200
TZNAME:EET
DTSTART:20221030T010000
END:STANDARD
END:VTIMEZONE
BEGIN:VEVENT
DTSTART;VALUE=DATE:20211002
DTEND;VALUE=DATE:20211004
DTSTAMP:20260422T025508
CREATED:20210804T082854Z
LAST-MODIFIED:20210915T145618Z
UID:11951-1633132800-1633305599@www.coforet.com
SUMMARY:Fête de la forêt et du bois dans le Chablais
DESCRIPTION:Découverte de la richesse des forêts de Haute-Savoie\, de l’importance de la Biodiversité\,… Nombreuses animations\, conférences avec de nombreux partenaires (FNE\, LPO…) ouvert à tous\, petits et grands… \nOrganisé conjointement par Thonon Agglomération\, l’Union des Forestiers Privés 74\, et la Commune d’accueil de Ballaison. \nToutes les infos sur ce site : https://www.savoie-mont-blanc.com/offre/fiche/fete-du-bois-et-de-la-foret/5806876 \nDu samedi 2 au dimanche 3 octobre 2021. \nPublics : tous public\nTarif : Gratuit.
URL:https://www.coforet.com/event/fete-de-la-foret-et-du-bois-dans-le-chablais/
LOCATION:Domaine de Thénières\, Ballaison\, 74140\, France
END:VEVENT
END:VCALENDAR