BEGIN:VCALENDAR
VERSION:2.0
PRODID:-//COFORET - ECPv6.15.20//NONSGML v1.0//EN
CALSCALE:GREGORIAN
METHOD:PUBLISH
X-WR-CALNAME:COFORET
X-ORIGINAL-URL:https://www.coforet.com
X-WR-CALDESC:Évènements pour COFORET
REFRESH-INTERVAL;VALUE=DURATION:PT1H
X-Robots-Tag:noindex
X-PUBLISHED-TTL:PT1H
BEGIN:VTIMEZONE
TZID:Europe/Helsinki
BEGIN:DAYLIGHT
TZOFFSETFROM:+0200
TZOFFSETTO:+0300
TZNAME:EEST
DTSTART:20210328T010000
END:DAYLIGHT
BEGIN:STANDARD
TZOFFSETFROM:+0300
TZOFFSETTO:+0200
TZNAME:EET
DTSTART:20211031T010000
END:STANDARD
BEGIN:DAYLIGHT
TZOFFSETFROM:+0200
TZOFFSETTO:+0300
TZNAME:EEST
DTSTART:20220327T010000
END:DAYLIGHT
BEGIN:STANDARD
TZOFFSETFROM:+0300
TZOFFSETTO:+0200
TZNAME:EET
DTSTART:20221030T010000
END:STANDARD
BEGIN:DAYLIGHT
TZOFFSETFROM:+0200
TZOFFSETTO:+0300
TZNAME:EEST
DTSTART:20230326T010000
END:DAYLIGHT
BEGIN:STANDARD
TZOFFSETFROM:+0300
TZOFFSETTO:+0200
TZNAME:EET
DTSTART:20231029T010000
END:STANDARD
END:VTIMEZONE
BEGIN:VEVENT
DTSTART;VALUE=DATE:20220510
DTEND;VALUE=DATE:20220511
DTSTAMP:20260421T011456
CREATED:20220107T111840Z
LAST-MODIFIED:20220420T074833Z
UID:12627-1652140800-1652227199@www.coforet.com
SUMMARY:Assemblée Massif Central
DESCRIPTION:COFORET est heureuse d’organiser son assemblée de section Massif Central \nTemps fort de la vie de votre coopérative forestière\, ce rendez-vous est l’occasion de vous informer sur son activité\, de faire entendre votre voix et de rencontrer l’équipe de votre section territoriale\, vos représentants et les dirigeants de COFORET. \nLe rendez-vous est donc donné le : \nMARDI 10 MAI 2022 À 9h30\n(signature de l’état de présence à partir de 9h)\nAU DOMAINE ET CHATEAU DE VALINCHES\n2979 route de Valinches 42560 Marols \nToutes les convocations ont été envoyées par courrier et par email.\nSi vous êtes adhérent et que nous n’avez rien reçu\, signalez le nous sans attendre !
URL:https://www.coforet.com/event/assemblee-massif-central/
CATEGORIES:Assemblée
ORGANIZER;CN="COFORET":MAILTO:contact@coforet.com
END:VEVENT
END:VCALENDAR